BEGIN:VCALENDAR
VERSION:2.0
PRODID:-//EmPRO Insurance Company - ECPv6.15.15//NONSGML v1.0//EN
CALSCALE:GREGORIAN
METHOD:PUBLISH
X-WR-CALNAME:EmPRO Insurance Company
X-ORIGINAL-URL:https://www.myempro.com
X-WR-CALDESC:Events for EmPRO Insurance Company
REFRESH-INTERVAL;VALUE=DURATION:PT1H
X-Robots-Tag:noindex
X-PUBLISHED-TTL:PT1H
BEGIN:VTIMEZONE
TZID:America/New_York
BEGIN:DAYLIGHT
TZOFFSETFROM:-0500
TZOFFSETTO:-0400
TZNAME:EDT
DTSTART:20230312T070000
END:DAYLIGHT
BEGIN:STANDARD
TZOFFSETFROM:-0400
TZOFFSETTO:-0500
TZNAME:EST
DTSTART:20231105T060000
END:STANDARD
BEGIN:DAYLIGHT
TZOFFSETFROM:-0500
TZOFFSETTO:-0400
TZNAME:EDT
DTSTART:20240310T070000
END:DAYLIGHT
BEGIN:STANDARD
TZOFFSETFROM:-0400
TZOFFSETTO:-0500
TZNAME:EST
DTSTART:20241103T060000
END:STANDARD
BEGIN:DAYLIGHT
TZOFFSETFROM:-0500
TZOFFSETTO:-0400
TZNAME:EDT
DTSTART:20250309T070000
END:DAYLIGHT
BEGIN:STANDARD
TZOFFSETFROM:-0400
TZOFFSETTO:-0500
TZNAME:EST
DTSTART:20251102T060000
END:STANDARD
END:VTIMEZONE
BEGIN:VEVENT
DTSTART;TZID=America/New_York:20240103T190000
DTEND;TZID=America/New_York:20240103T203000
DTSTAMP:20260423T054626
CREATED:20231220T201733Z
LAST-MODIFIED:20231222T191554Z
UID:5531-1704308400-1704313800@www.myempro.com
SUMMARY:The Writer's Studio
DESCRIPTION:EmPRO invites you to join your colleagues in The Writer’s Studio\, a program run by narrative medicine specialist and endocrinologist\, Barbara Hirsch\, MD\, MS.  \nThis monthly course uses the gift of poetry to help see the world of medicine with greater clarity and illumination. With poetry acting as a trigger to often profound discussion\, the group concludes with an individual narrative writing experience. Allow Barbara and the group to bring the humanities to medicine and see the changing perspective that occurs. \nCLICK HERE TO REGISTER
URL:https://www.myempro.com/event/the-writers-studio-with-barbara-hirsch-md/
LOCATION:Virtual
CATEGORIES:Peer Support
ATTACH;FMTTYPE=image/png:https://www.myempro.com/app/uploads/2023/12/The-Writers-Studio-Website-Cover-4-2.png
END:VEVENT
BEGIN:VEVENT
DTSTART;TZID=America/New_York:20240109T080000
DTEND;TZID=America/New_York:20240109T084500
DTSTAMP:20260423T054626
CREATED:20240104T154144Z
LAST-MODIFIED:20240105T170903Z
UID:5582-1704787200-1704789900@www.myempro.com
SUMMARY:Self Compassion & Mindfulness
DESCRIPTION:EmPRO welcomes you to a 45-minute\, virtual program hosted by mindfulness thought leader\, Mark Bertin\, MD. Enjoy a 12-minute virtual meditation to refocus and strengthen your mindset! \nCLICK HERE TO REGISTER \n 
URL:https://www.myempro.com/event/self-compassion-mindfulness/
CATEGORIES:Peer Support
ATTACH;FMTTYPE=image/png:https://www.myempro.com/app/uploads/2024/01/Template-1-1-1.png
END:VEVENT
BEGIN:VEVENT
DTSTART;TZID=America/New_York:20240111T180000
DTEND;TZID=America/New_York:20240111T203000
DTSTAMP:20260423T054626
CREATED:20231214T152628Z
LAST-MODIFIED:20240102T173430Z
UID:5494-1704996000-1705005000@www.myempro.com
SUMMARY:The Business Side of Medicine - Independent Practitioner vs. Being Employed
DESCRIPTION:Join us for this program in-person or virtually on Thursday\, January 11th\, 2024\, from 6pm – 8:30pm. \nThe learning objectives for this program are to: \n\nDefine the business of medicine;\nUnderstand physician employer contracting;\nDefine and understand independent medical practice;\nDiscover the connection between how a particular form of medical practice may lead to burnout.\n\n\nCLICK HERE TO REGISTER
URL:https://www.myempro.com/event/the-business-side-of-medicine/
LOCATION:EmPRO Insurance\, 1800 Northern Blvd\, Roslyn\, NY\, 11576\, United States
CATEGORIES:Education
ATTACH;FMTTYPE=image/png:https://www.myempro.com/app/uploads/2023/12/Donald-E.-Moore-The-Business-Side-of-Medicine-.png
END:VEVENT
BEGIN:VEVENT
DTSTART;TZID=America/New_York:20240117T200000
DTEND;TZID=America/New_York:20240117T210000
DTSTAMP:20260423T054626
CREATED:20240111T155218Z
LAST-MODIFIED:20240111T155230Z
UID:5621-1705521600-1705525200@www.myempro.com
SUMMARY:Mindful Practice: Enhancing Quality of Care\, Quality of Caring and Professional Well-Being
DESCRIPTION:A 60-Minute Virtual Program: \n\nIdentify and practice strategies to cultivate the mental stability and presence needed to respond effectively to patients’ suffering in situations when one might otherwise turn away from it.\nCommit to incorporating one of the mindful practices into everyday work and life.\nExperience a mindful practice designed to enhance resilience by building awareness that is linked with self-compassion.\n\nEmPRO Insurance Company is accredited by The Medical Society of the State of New York (MSSNY) to provide continuing medical education for physicians. \nEmPRO Insurance Company designates this live course for a maximum of 1 AMA PRA Category 1 Credits™. Physicians should claim only the credit commensurate with the extent of their participation in the activity. \nCLICK HERE TO REGISTER
URL:https://www.myempro.com/event/mindful-practice-enhancing-quality-of-care-quality-of-caring-and-professional-well-being/
CATEGORIES:Education
ATTACH;FMTTYPE=image/png:https://www.myempro.com/app/uploads/2024/01/Copy-of-Mindful-Practice-in-Medicine-Facebook-Cover-4.png
END:VEVENT
BEGIN:VEVENT
DTSTART;TZID=America/New_York:20240131T200000
DTEND;TZID=America/New_York:20240131T210000
DTSTAMP:20260423T054626
CREATED:20240109T164936Z
LAST-MODIFIED:20240123T022035Z
UID:5609-1706731200-1706734800@www.myempro.com
SUMMARY:Women in Medicine
DESCRIPTION:Jo Shapiro\, MD\, FACS is an international thought leader on physician peer support\, founder of the Brigham and Women’s Hospital Center for Professionalism and Peer Support\, and Associate Professor of Otolaryngology – Head and Neck Surgery at Harvard Medical School. \nCLICK HERE TO REGISTER
URL:https://www.myempro.com/event/women-in-medicine-2/
CATEGORIES:Education
ATTACH;FMTTYPE=image/png:https://www.myempro.com/app/uploads/2024/01/2024Jan31-Women-in-Medicine-Northwell-1.png
END:VEVENT
END:VCALENDAR