BEGIN:VCALENDAR
VERSION:2.0
PRODID:-//EmPRO Insurance Company - ECPv6.15.15//NONSGML v1.0//EN
CALSCALE:GREGORIAN
METHOD:PUBLISH
X-ORIGINAL-URL:https://www.myempro.com
X-WR-CALDESC:Events for EmPRO Insurance Company
REFRESH-INTERVAL;VALUE=DURATION:PT1H
X-Robots-Tag:noindex
X-PUBLISHED-TTL:PT1H
BEGIN:VTIMEZONE
TZID:America/New_York
BEGIN:DAYLIGHT
TZOFFSETFROM:-0500
TZOFFSETTO:-0400
TZNAME:EDT
DTSTART:20220313T070000
END:DAYLIGHT
BEGIN:STANDARD
TZOFFSETFROM:-0400
TZOFFSETTO:-0500
TZNAME:EST
DTSTART:20221106T060000
END:STANDARD
BEGIN:DAYLIGHT
TZOFFSETFROM:-0500
TZOFFSETTO:-0400
TZNAME:EDT
DTSTART:20230312T070000
END:DAYLIGHT
BEGIN:STANDARD
TZOFFSETFROM:-0400
TZOFFSETTO:-0500
TZNAME:EST
DTSTART:20231105T060000
END:STANDARD
BEGIN:DAYLIGHT
TZOFFSETFROM:-0500
TZOFFSETTO:-0400
TZNAME:EDT
DTSTART:20240310T070000
END:DAYLIGHT
BEGIN:STANDARD
TZOFFSETFROM:-0400
TZOFFSETTO:-0500
TZNAME:EST
DTSTART:20241103T060000
END:STANDARD
END:VTIMEZONE
BEGIN:VEVENT
DTSTART;TZID=America/New_York:20231102T090000
DTEND;TZID=America/New_York:20231102T153000
DTSTAMP:20260423T091444
CREATED:20231006T123736Z
LAST-MODIFIED:20231026T155603Z
UID:4677-1698915600-1698939000@www.myempro.com
SUMMARY:Annual Patient Safety Conference
DESCRIPTION:CLICK HERE TO REGISTER
URL:https://www.myempro.com/event/4677/
CATEGORIES:Patient Safety
ATTACH;FMTTYPE=image/png:https://www.myempro.com/app/uploads/2023/10/Annual-Patient-Safety-Conference-Invite-8.5x11-1.png
END:VEVENT
BEGIN:VEVENT
DTSTART;TZID=America/New_York:20231104T093000
DTEND;TZID=America/New_York:20231104T143000
DTSTAMP:20260423T091444
CREATED:20231006T123428Z
LAST-MODIFIED:20231006T123515Z
UID:4672-1699090200-1699108200@www.myempro.com
SUMMARY:Flourishing in Medicine: From Surviving to Thriving Retreat
DESCRIPTION:PLEASE CLICK HERE TO REGISTER
URL:https://www.myempro.com/event/flourishing-in-medicine-from-surviving-to-thriving-retreat/
CATEGORIES:Education
ATTACH;FMTTYPE=image/jpeg:https://www.myempro.com/app/uploads/2023/10/Blue-Modern-Medical-Service-Poster.jpg
END:VEVENT
BEGIN:VEVENT
DTSTART;TZID=America/New_York:20231114T080000
DTEND;TZID=America/New_York:20231114T084500
DTSTAMP:20260423T091445
CREATED:20231116T174513Z
LAST-MODIFIED:20231116T174544Z
UID:5342-1699948800-1699951500@www.myempro.com
SUMMARY:Self Compassion and Mindfulness
DESCRIPTION:Join us for EmPRO’s 45-minute virtual program – Self Compassion and Mindfulness! Hosted by Mindfulness Thought Leader\, Mark Bertin\, MD. \nWe welcome you to invite your Health Team/Office Staff to participate!\n🧘🏼 12-minute virtual meditation included! \nCLICK HERE TO REGISTER
URL:https://www.myempro.com/event/self-compassion-and-mindfulness-11-14/
CATEGORIES:Peer Support
ATTACH;FMTTYPE=image/png:https://www.myempro.com/app/uploads/2023/11/Mark-Bertin-Peer-Support-Event-Template-Website-Email-600-x-800-px.png
END:VEVENT
BEGIN:VEVENT
DTSTART;TZID=America/New_York:20231121T200000
DTEND;TZID=America/New_York:20231121T210000
DTSTAMP:20260423T091445
CREATED:20231116T180349Z
LAST-MODIFIED:20231116T181418Z
UID:5364-1700596800-1700600400@www.myempro.com
SUMMARY:When Things Go Wrong: The Hidden Gift of our Imperfections
DESCRIPTION:Join us for EmPRO’s 60-minute virtual program: When Things Go Wrong: The Hidden Gift of Our Imperfections. Hosted by Mick Krasner\, MD. \nLearning Objectives: \n\nExplore how uncertainty is a common experience in medicine and why working with uncertainty is a useful skill\nExperience the usefulness of “Insight Dialogue” as a way of improving meaning in conversation with patients and colleagues\nLearn the positives and negatives of promoting empathy and compassion towards patients in the professional and personal lives of clinicians\n\nCLICK HERE TO REGISTER
URL:https://www.myempro.com/event/when-things-go-wrong/
CATEGORIES:Peer Support
ATTACH;FMTTYPE=image/png:https://www.myempro.com/app/uploads/2023/11/Mindful-Practice-in-Medicine-Facebook-Cover-Website-Email-4.png
END:VEVENT
BEGIN:VEVENT
DTSTART;TZID=America/New_York:20231129T200000
DTEND;TZID=America/New_York:20231129T210000
DTSTAMP:20260423T091445
CREATED:20231116T194610Z
LAST-MODIFIED:20231117T175657Z
UID:5368-1701288000-1701291600@www.myempro.com
SUMMARY:Women In Medicine
DESCRIPTION:  \nCLICK HERE TO REGISTER
URL:https://www.myempro.com/event/women-in-medicine-11-29/
CATEGORIES:Education
ATTACH;FMTTYPE=image/png:https://www.myempro.com/app/uploads/2023/11/2023Nov29-Women-in-Medicine-Northwell.png
END:VEVENT
END:VCALENDAR