BEGIN:VCALENDAR
VERSION:2.0
PRODID:-//EmPRO Insurance Company - ECPv6.15.15//NONSGML v1.0//EN
CALSCALE:GREGORIAN
METHOD:PUBLISH
X-WR-CALNAME:EmPRO Insurance Company
X-ORIGINAL-URL:https://www.myempro.com
X-WR-CALDESC:Events for EmPRO Insurance Company
REFRESH-INTERVAL;VALUE=DURATION:PT1H
X-Robots-Tag:noindex
X-PUBLISHED-TTL:PT1H
BEGIN:VTIMEZONE
TZID:America/New_York
BEGIN:DAYLIGHT
TZOFFSETFROM:-0500
TZOFFSETTO:-0400
TZNAME:EDT
DTSTART:20220313T070000
END:DAYLIGHT
BEGIN:STANDARD
TZOFFSETFROM:-0400
TZOFFSETTO:-0500
TZNAME:EST
DTSTART:20221106T060000
END:STANDARD
BEGIN:DAYLIGHT
TZOFFSETFROM:-0500
TZOFFSETTO:-0400
TZNAME:EDT
DTSTART:20230312T070000
END:DAYLIGHT
BEGIN:STANDARD
TZOFFSETFROM:-0400
TZOFFSETTO:-0500
TZNAME:EST
DTSTART:20231105T060000
END:STANDARD
BEGIN:DAYLIGHT
TZOFFSETFROM:-0500
TZOFFSETTO:-0400
TZNAME:EDT
DTSTART:20240310T070000
END:DAYLIGHT
BEGIN:STANDARD
TZOFFSETFROM:-0400
TZOFFSETTO:-0500
TZNAME:EST
DTSTART:20241103T060000
END:STANDARD
END:VTIMEZONE
BEGIN:VEVENT
DTSTART;TZID=America/New_York:20231004T190000
DTEND;TZID=America/New_York:20231004T203000
DTSTAMP:20260423T105513
CREATED:20231011T153709Z
LAST-MODIFIED:20231011T153709Z
UID:5049-1696446000-1696451400@www.myempro.com
SUMMARY:The Writers Studio
DESCRIPTION:CLICK HERE TO REGISTER
URL:https://www.myempro.com/event/the-writers-studio-2/
CATEGORIES:Education
ATTACH;FMTTYPE=image/jpeg:https://www.myempro.com/app/uploads/2023/10/Barbara-hirsch-flyer-October-2023.jpg
END:VEVENT
BEGIN:VEVENT
DTSTART;TZID=America/New_York:20231010T080000
DTEND;TZID=America/New_York:20231010T084500
DTSTAMP:20260423T105513
CREATED:20231006T124420Z
LAST-MODIFIED:20231006T124420Z
UID:4684-1696924800-1696927500@www.myempro.com
SUMMARY:Self Compassion & Mindfulness: Morning Mindfulness for Medical Professionals
DESCRIPTION:CLICK HERE TO REGISTER
URL:https://www.myempro.com/event/self-compassion-mindfulness-morning-mindfulness-for-medical-professionals/
CATEGORIES:Education
ATTACH;FMTTYPE=image/jpeg:https://www.myempro.com/app/uploads/2023/10/Mark-Bertin-Peer-Support-Event-Template-for-october-10-2023.jpg
END:VEVENT
BEGIN:VEVENT
DTSTART;TZID=America/New_York:20231017T200000
DTEND;TZID=America/New_York:20231017T210000
DTSTAMP:20260423T105513
CREATED:20231006T124643Z
LAST-MODIFIED:20231006T124643Z
UID:4687-1697572800-1697576400@www.myempro.com
SUMMARY:Compassion: Being with Families\, Patients\, and Ourselves in Medicine
DESCRIPTION:PLEASE CLICK HERE to Register
URL:https://www.myempro.com/event/compassion-being-with-families-patients-and-ourselves-in-medicine/
CATEGORIES:Education
ATTACH;FMTTYPE=image/jpeg:https://www.myempro.com/app/uploads/2023/10/Copy-of-Mindful-Practice-in-Medicine-Facebook-Cover-Website-Email.jpg
END:VEVENT
BEGIN:VEVENT
DTSTART;TZID=America/New_York:20231021T093000
DTEND;TZID=America/New_York:20231021T173000
DTSTAMP:20260423T105513
CREATED:20231001T163520Z
LAST-MODIFIED:20231004T165322Z
UID:4618-1697880600-1697909400@www.myempro.com
SUMMARY:Physicians' Club North Fork Winery Tour
DESCRIPTION:Purchase Tickets
URL:https://www.myempro.com/event/4618/
CATEGORIES:Physician's Club
ATTACH;FMTTYPE=image/jpeg:https://www.myempro.com/app/uploads/2023/10/Physicians-Club-Winery-Tour-Flyer-1-618x800-1.jpg
END:VEVENT
BEGIN:VEVENT
DTSTART;TZID=America/New_York:20231025T200000
DTEND;TZID=America/New_York:20231025T210000
DTSTAMP:20260423T105513
CREATED:20231011T154002Z
LAST-MODIFIED:20231011T154002Z
UID:5052-1698264000-1698267600@www.myempro.com
SUMMARY:Women in medicine
DESCRIPTION:CLICK HERE TO REGISTER
URL:https://www.myempro.com/event/women-in-medicine/
CATEGORIES:Education
ATTACH;FMTTYPE=image/jpeg:https://www.myempro.com/app/uploads/2023/10/Jo-flyer-for-Oct-25-2023-Women-in-Medicine-2.jpg
END:VEVENT
BEGIN:VEVENT
DTSTART;TZID=America/New_York:20231026T200000
DTEND;TZID=America/New_York:20231026T210000
DTSTAMP:20260423T105513
CREATED:20231006T123104Z
LAST-MODIFIED:20231006T123217Z
UID:4669-1698350400-1698354000@www.myempro.com
SUMMARY:The "L" Word: Litigation Stress and Survival
DESCRIPTION:  \nPLEASE CLICK HERE TO REGISTER
URL:https://www.myempro.com/event/the-l-word-litigation-stress-and-survival/
CATEGORIES:Education
ATTACH;FMTTYPE=image/jpeg:https://www.myempro.com/app/uploads/2023/10/Brown-Modern-Law-And-Firm-Service-Flyer.jpg
END:VEVENT
END:VCALENDAR