BEGIN:VCALENDAR
VERSION:2.0
PRODID:-//EmPRO Insurance Company - ECPv6.15.15//NONSGML v1.0//EN
CALSCALE:GREGORIAN
METHOD:PUBLISH
X-ORIGINAL-URL:https://www.myempro.com
X-WR-CALDESC:Events for EmPRO Insurance Company
REFRESH-INTERVAL;VALUE=DURATION:PT1H
X-Robots-Tag:noindex
X-PUBLISHED-TTL:PT1H
BEGIN:VTIMEZONE
TZID:America/New_York
BEGIN:DAYLIGHT
TZOFFSETFROM:-0500
TZOFFSETTO:-0400
TZNAME:EDT
DTSTART:20210314T070000
END:DAYLIGHT
BEGIN:STANDARD
TZOFFSETFROM:-0400
TZOFFSETTO:-0500
TZNAME:EST
DTSTART:20211107T060000
END:STANDARD
BEGIN:DAYLIGHT
TZOFFSETFROM:-0500
TZOFFSETTO:-0400
TZNAME:EDT
DTSTART:20220313T070000
END:DAYLIGHT
BEGIN:STANDARD
TZOFFSETFROM:-0400
TZOFFSETTO:-0500
TZNAME:EST
DTSTART:20221106T060000
END:STANDARD
BEGIN:DAYLIGHT
TZOFFSETFROM:-0500
TZOFFSETTO:-0400
TZNAME:EDT
DTSTART:20230312T070000
END:DAYLIGHT
BEGIN:STANDARD
TZOFFSETFROM:-0400
TZOFFSETTO:-0500
TZNAME:EST
DTSTART:20231105T060000
END:STANDARD
END:VTIMEZONE
BEGIN:VEVENT
DTSTART;TZID=America/New_York:20220122T100000
DTEND;TZID=America/New_York:20220122T110000
DTSTAMP:20260424T195628
CREATED:20231006T125603Z
LAST-MODIFIED:20231006T125610Z
UID:4696-1642845600-1642849200@www.myempro.com
SUMMARY:Travel Back in Time (and Space) with the USSR Space Program!
DESCRIPTION:EmPRO’s Physicians’ Club Presents: A Russian Space Odyssey \nYou’re going to have a blast as we go live in Moscow to explore the Soviet space program. If you’ve ever wondered about Sputnik-1\, how a cosmonaut became the first human in outerspace\, and bioprinting 3D body parts in space\, this weekend tour is for you! A local guide will fly through the history of Russian space exploration with nods to legendary spaceships and achievements. \nFrom the comfort of your own home\, we’ll have a chance to visit the Monument to the Conquerors of Space\, a 351-foot tall titanium obelisk created to celebrate achievements of the Soviets in space exploration. Hang on tight: This tour will be out of this world! \nPrepare for liftoff. RSVP by clicking here.
URL:https://www.myempro.com/event/travel-back-in-time-and-space-with-the-ussr-space-program/
CATEGORIES:Physician's Club
ATTACH;FMTTYPE=image/jpeg:https://www.myempro.com/app/uploads/2023/10/Astronaut_Flag_New_MoscowEvent_cropped_640x350-2.jpg
END:VEVENT
END:VCALENDAR