BEGIN:VCALENDAR
VERSION:2.0
PRODID:-//EmPRO Insurance Company - ECPv6.15.15//NONSGML v1.0//EN
CALSCALE:GREGORIAN
METHOD:PUBLISH
X-WR-CALNAME:EmPRO Insurance Company
X-ORIGINAL-URL:https://www.myempro.com
X-WR-CALDESC:Events for EmPRO Insurance Company
REFRESH-INTERVAL;VALUE=DURATION:PT1H
X-Robots-Tag:noindex
X-PUBLISHED-TTL:PT1H
BEGIN:VTIMEZONE
TZID:America/New_York
BEGIN:DAYLIGHT
TZOFFSETFROM:-0500
TZOFFSETTO:-0400
TZNAME:EDT
DTSTART:20190310T070000
END:DAYLIGHT
BEGIN:STANDARD
TZOFFSETFROM:-0400
TZOFFSETTO:-0500
TZNAME:EST
DTSTART:20191103T060000
END:STANDARD
BEGIN:DAYLIGHT
TZOFFSETFROM:-0500
TZOFFSETTO:-0400
TZNAME:EDT
DTSTART:20200308T070000
END:DAYLIGHT
BEGIN:STANDARD
TZOFFSETFROM:-0400
TZOFFSETTO:-0500
TZNAME:EST
DTSTART:20201101T060000
END:STANDARD
BEGIN:DAYLIGHT
TZOFFSETFROM:-0500
TZOFFSETTO:-0400
TZNAME:EDT
DTSTART:20210314T070000
END:DAYLIGHT
BEGIN:STANDARD
TZOFFSETFROM:-0400
TZOFFSETTO:-0500
TZNAME:EST
DTSTART:20211107T060000
END:STANDARD
END:VTIMEZONE
BEGIN:VEVENT
DTSTART;TZID=America/New_York:20201014T200000
DTEND;TZID=America/New_York:20201014T204500
DTSTAMP:20260423T153627
CREATED:20231006T130646Z
LAST-MODIFIED:20231006T130646Z
UID:4711-1602705600-1602708300@www.myempro.com
SUMMARY:You're Invited to: Beautiful - Featuring Music by Carole King | Live Virtual Concert
DESCRIPTION:*Update: This event has reached capacity and is no longer receiving registrants. Please check back in for our next event – details coming soon! \nThe EmPRO/PRI Physicians’ Club is Proud to Present: An Exclusive Live Virtual Concert Featuring Songs From Beautiful – The Carole King Musical. \nJoin Us for a Live Virtual Concert performance and Q&A with the Broadway Star who played Carole King in the Broadway show Beautiful. \nShe will perform a selection of songs from the long running hit show and answer your questions about her experiences on Broadway. \nWednesday\, October 14th from 8:00-8:45 PM EDT \nVisit the registration page HERE. \nWe hope you can join us for this family friendly event! \nAny questions\, please contact Christine Quinn: C.Quinn@Medmal.com \n\nRegistration is limited!
URL:https://www.myempro.com/event/youre-invited-to-beautiful-featuring-music-by-carole-king-live-virtual-concert/
CATEGORIES:Physician's Club
ATTACH;FMTTYPE=image/jpeg:https://www.myempro.com/app/uploads/2023/10/email_header_caroleKing_beautiful_event_2.jpg
END:VEVENT
END:VCALENDAR