BEGIN:VCALENDAR
VERSION:2.0
PRODID:-//EmPRO Insurance Company - ECPv6.15.15//NONSGML v1.0//EN
CALSCALE:GREGORIAN
METHOD:PUBLISH
X-WR-CALNAME:EmPRO Insurance Company
X-ORIGINAL-URL:https://www.myempro.com
X-WR-CALDESC:Events for EmPRO Insurance Company
REFRESH-INTERVAL;VALUE=DURATION:PT1H
X-Robots-Tag:noindex
X-PUBLISHED-TTL:PT1H
BEGIN:VTIMEZONE
TZID:America/New_York
BEGIN:DAYLIGHT
TZOFFSETFROM:-0500
TZOFFSETTO:-0400
TZNAME:EDT
DTSTART:20240310T070000
END:DAYLIGHT
BEGIN:STANDARD
TZOFFSETFROM:-0400
TZOFFSETTO:-0500
TZNAME:EST
DTSTART:20241103T060000
END:STANDARD
BEGIN:DAYLIGHT
TZOFFSETFROM:-0500
TZOFFSETTO:-0400
TZNAME:EDT
DTSTART:20250309T070000
END:DAYLIGHT
BEGIN:STANDARD
TZOFFSETFROM:-0400
TZOFFSETTO:-0500
TZNAME:EST
DTSTART:20251102T060000
END:STANDARD
BEGIN:DAYLIGHT
TZOFFSETFROM:-0500
TZOFFSETTO:-0400
TZNAME:EDT
DTSTART:20260308T070000
END:DAYLIGHT
BEGIN:STANDARD
TZOFFSETFROM:-0400
TZOFFSETTO:-0500
TZNAME:EST
DTSTART:20261101T060000
END:STANDARD
END:VTIMEZONE
BEGIN:VEVENT
DTSTART;TZID=America/New_York:20251104T130000
DTEND;TZID=America/New_York:20251104T173000
DTSTAMP:20260420T091451
CREATED:20250627T153657Z
LAST-MODIFIED:20251003T160117Z
UID:6588-1762261200-1762277400@www.myempro.com
SUMMARY:Curiosity in Medicine
DESCRIPTION:CLICK HERE TO REGISTER \nLearning Objectives: \n\nExamine real clinical cases and physician stories to explore how curiosity can improve diagnosis\, strengthen patient relationships\, and lead to better health outcomes.\nAssess how curiosity supports clinician wellbeing and helps prevent burnout by looking at research\, mindfulness practices\, and real-world experience.\nCreate ways to use curiosity in daily clinical work such as asking reflective questions or being more patient-focused to increase connection\, meaning\, and engagement.\n\nSpeakers: \nDr. Michael (Mick) Krasner\nA Professor Emeritus of Medicine at the University of Rochester and Co-Chief Medical Officer and VP of Education at EmPRO Insurance Company\, Dr. Krasner has over two decades of experience teaching mindfulness and relational skills to thousands of health professionals worldwide. He co-directs the Mindful Practice in Medicine programs\, offering international training to promote flourishing\, reflective practice\, and high-quality patient care. His work emphasizes cultivating awareness\, attention\, and meaning in the healing relationship. \nDr. Lisa Sanders\nProfessor of Medicine at Yale School of Medicine and Medical Director of Yale’s Long COVID Multidisciplinary Care Center\, Dr. Sanders is renowned for her “Diagnosis” column in The New York Times Magazine. Called The Doctor Behind the Character ‘House\,’ her book Every Patient Tells a Story: Medical Mysteries and the Art of Diagnosis brings to light complex medical cases\, reflecting her deep commitment to understanding and empathizing with patients’ experiences. ​ \nDr. Donald E. Moore\nWith over 35 years of managing a primary care practice in Brooklyn and serving as an Attending Physician at New York Presbyterian Brooklyn Methodist Hospital\, Dr. Moore has been a steadfast advocate for patient-centered care and healthcare policy reform\, and is the current Chair of the Physician Wellness and Resilience Committee and the immediate past chair of the Committee for Physicians Health of the Medical Society of the State of New York (MSSNY). His leadership roles in the broader medical community underscore his dedication to improving healthcare access and equity. \n————————————— \nPolicy of Confidentiality \nThis program is confidential – no notes will be maintained. \nAccreditation Statement \nEmPRO Insurance Company is accredited by The Medical Society of the State of New York (MSSNY) to provide continuing medical education for physicians. \nEmPRO Insurance Company designates this live activity for a maximum of 3 AMA PRA Category 1 Credits™. Physicians should claim only the credit commensurate with the extent of their participation in the activity. \nPolicy on Disclosure of Relevant Financial Relationships \nEmPRO Insurance Company asks all individuals involved with content development\, planning\, and management to disclose all financial relationships with any ineligible companies that they have had in the past 24 months. There is no minimum financial threshold; all financial relationships\, regardless of the amount\, with an ineligible company must be disclosed. \nThe ACCME defines an ineligible company: as companies whose primary business is producing\, marketing\, selling\, re-selling healthcare products used by or on patients. \nShould any relevant financial relationship(s) with an ineligible company be identified\, it will be mitigated prior to the activity. \nDr. Krasner\, faculty for this live program\, has no relevant financial relationship(s) with ineligible companies within the past 24-months to disclose. \nDr. Lisa Sanders\, faculty for this live program\, has no relevant financial relationship(s) with ineligible companies within the past 24-months to disclose. \nDr. Donald E. Moore\, faculty for this live program\, has no relevant financial relationship(s) with ineligible companies within the past 24-months to disclose.
URL:https://www.myempro.com/event/curiosity-in-medicine/
LOCATION:New York Academy of Medicine\, 1216 5th Ave\, New York\, NY\, 10029\, United States
CATEGORIES:Peer Support
ATTACH;FMTTYPE=image/jpeg:https://www.myempro.com/app/uploads/2025/06/Curiosity-in-Medicine-Social-MediaWebsite-Flyer-1.jpg
END:VEVENT
END:VCALENDAR