BEGIN:VCALENDAR
VERSION:2.0
PRODID:-//EmPRO Insurance Company - ECPv6.15.15//NONSGML v1.0//EN
CALSCALE:GREGORIAN
METHOD:PUBLISH
X-ORIGINAL-URL:https://www.myempro.com
X-WR-CALDESC:Events for EmPRO Insurance Company
REFRESH-INTERVAL;VALUE=DURATION:PT1H
X-Robots-Tag:noindex
X-PUBLISHED-TTL:PT1H
BEGIN:VTIMEZONE
TZID:America/New_York
BEGIN:DAYLIGHT
TZOFFSETFROM:-0500
TZOFFSETTO:-0400
TZNAME:EDT
DTSTART:20230312T070000
END:DAYLIGHT
BEGIN:STANDARD
TZOFFSETFROM:-0400
TZOFFSETTO:-0500
TZNAME:EST
DTSTART:20231105T060000
END:STANDARD
BEGIN:DAYLIGHT
TZOFFSETFROM:-0500
TZOFFSETTO:-0400
TZNAME:EDT
DTSTART:20240310T070000
END:DAYLIGHT
BEGIN:STANDARD
TZOFFSETFROM:-0400
TZOFFSETTO:-0500
TZNAME:EST
DTSTART:20241103T060000
END:STANDARD
BEGIN:DAYLIGHT
TZOFFSETFROM:-0500
TZOFFSETTO:-0400
TZNAME:EDT
DTSTART:20250309T070000
END:DAYLIGHT
BEGIN:STANDARD
TZOFFSETFROM:-0400
TZOFFSETTO:-0500
TZNAME:EST
DTSTART:20251102T060000
END:STANDARD
END:VTIMEZONE
BEGIN:VEVENT
DTSTART;TZID=America/New_York:20241008T080000
DTEND;TZID=America/New_York:20241008T084500
DTSTAMP:20260421T044341
CREATED:20240930T135634Z
LAST-MODIFIED:20240930T142353Z
UID:6057-1728374400-1728377100@www.myempro.com
SUMMARY:Self Compassion & Mindfulness
DESCRIPTION:We welcome you to a 45 min\, virtual program hosted by mindfulness thought leader\, Mark Bertin\, MD. \n12 – Min Virtual Meditation Included. \nCLICK HERE TO REGISTER
URL:https://www.myempro.com/event/self-compassion-mindfulness-10/
CATEGORIES:Peer Support
ATTACH;FMTTYPE=image/png:https://www.myempro.com/app/uploads/2024/09/Mark-Bertin-Social-Post-2.png
END:VEVENT
BEGIN:VEVENT
DTSTART;TZID=America/New_York:20241016T200000
DTEND;TZID=America/New_York:20241016T210000
DTSTAMP:20260421T044341
CREATED:20240930T142258Z
LAST-MODIFIED:20240930T142258Z
UID:6060-1729108800-1729112400@www.myempro.com
SUMMARY:When Things Go Wrong: The Hidden Gift of our Imperfections
DESCRIPTION:CLICK HERE TO REGISTER
URL:https://www.myempro.com/event/when-things-go-wrong-the-hidden-gift-of-our-imperfections/
CATEGORIES:Peer Support
ATTACH;FMTTYPE=image/png:https://www.myempro.com/app/uploads/2024/09/Mick-Krasner-Social-Post-4.png
END:VEVENT
END:VCALENDAR