BEGIN:VCALENDAR
VERSION:2.0
PRODID:-//EmPRO Insurance Company - ECPv6.15.15//NONSGML v1.0//EN
CALSCALE:GREGORIAN
METHOD:PUBLISH
X-ORIGINAL-URL:https://www.myempro.com
X-WR-CALDESC:Events for EmPRO Insurance Company
REFRESH-INTERVAL;VALUE=DURATION:PT1H
X-Robots-Tag:noindex
X-PUBLISHED-TTL:PT1H
BEGIN:VTIMEZONE
TZID:America/New_York
BEGIN:DAYLIGHT
TZOFFSETFROM:-0500
TZOFFSETTO:-0400
TZNAME:EDT
DTSTART:20240310T070000
END:DAYLIGHT
BEGIN:STANDARD
TZOFFSETFROM:-0400
TZOFFSETTO:-0500
TZNAME:EST
DTSTART:20241103T060000
END:STANDARD
BEGIN:DAYLIGHT
TZOFFSETFROM:-0500
TZOFFSETTO:-0400
TZNAME:EDT
DTSTART:20250309T070000
END:DAYLIGHT
BEGIN:STANDARD
TZOFFSETFROM:-0400
TZOFFSETTO:-0500
TZNAME:EST
DTSTART:20251102T060000
END:STANDARD
BEGIN:DAYLIGHT
TZOFFSETFROM:-0500
TZOFFSETTO:-0400
TZNAME:EDT
DTSTART:20260308T070000
END:DAYLIGHT
BEGIN:STANDARD
TZOFFSETFROM:-0400
TZOFFSETTO:-0500
TZNAME:EST
DTSTART:20261101T060000
END:STANDARD
END:VTIMEZONE
BEGIN:VEVENT
DTSTART;TZID=America/New_York:20251029T090000
DTEND;TZID=America/New_York:20251029T153000
DTSTAMP:20260422T232452
CREATED:20250813T142443Z
LAST-MODIFIED:20251023T135931Z
UID:6754-1761728400-1761751800@www.myempro.com
SUMMARY:Annual Patient Safety Conference - Healing Across Generations
DESCRIPTION:REGISTER HERE \nThis program is complimentary for you and your colleagues. Breakfast and lunch will be served. \nLearning Objectives:\n\nDescribe and compare the defining characteristics and communication styles of each of the five healthcare generations.\nAnalyze how generational differences affect patient expectations and safety practices by reviewing clinical scenarios.\nApply strategies presented to improve collaboration across generations and increase patient engagement.\nIdentify generational biases and areas and or sources of communication breakdown in clinical or workplace settings.\nEvaluate how generational values and communication styles may impact jury selection and attitudes in malpractice trials.\n\nExplore the current and emerging applications of artificial intelligence in healthcare and evaluate its potential benefits and challenges. \nKeynote Speaker:\n \nAlayna Thomas\, MS\, SHRM-SCP \nRetention Strategist\, Magnet Culture \nAs a GenZ keynoter\, Alayna equips leaders to make the necessary adjustments to keep today’s multigenerational workforce intact. Highly credentialed and a wise-beyond-her-years GenZer herself\, Ms. Thomas already has experience as an HR Director\, her Master’s in Management\, and a Senior Certified Professional designation from the Society for Human Resource Management (SHRM-SCP). She’s the author of the minibook “It’s Not About Birth Year” and designs and delivers generational programs at Magnet Culture\, creators of the Employee Retention Ecosystem™. \nSpeakers:\n \nChristine Quinn  |  Vice President of Risk Management & Chief Risk Officer\, EmPRO Insurance \nChristine Quinn has over 37 years of experience as a risk manager. Prior to transitioning to a career in professional liability\, Ms. Quinn\, a Registered Nurse\, worked as a critical care nurse at New York Hospital – Cornell Medical Center. Ms. Quinn works collaboratively with physicians and healthcare providers on patient safety issues by designing and implementing strategies to improve patient care and to avoid lawsuits. With her clinical expertise and knowledge of risk assessment\, Ms. Quinn has a wealth of experience working with physicians who are at risk. \nAndrea Mokrzycki  |  Director of Patient Safety\, EmPRO Insurance \nAndrea Mokrzycki has over 30 years of risk management and patient safety experience\, working in both academic medical centers and in the insurance industry. Ms. Mokrzycki has co-chaired and served on several hospital committees including the Patient Safety Committee\, Ethics Committee\, Serious Event Review Committee\, Policy and Procedure Committee\, Compliance Committee\, and the Grievance Committee. Her extensive experience makes her a dynamic educator on patient safety issues. \nTimothy Shea  |  Senior Vice President & Chief Claims Officer\, EmPRO Insurance \nAs Chief Claims Officer\, Mr. Shea develops\, implements\, and manages EmPRO’s strategic claims programs. Mr. Shea has over thirty years of experience in the insurance industry encompassing accomplishments in the start-up\, acquisition\, and transformational leadership of domestic and international insurers\, reinsurers\, medical professional claims operations\, and litigation leadership. \nMax Gaujean  |  Senior Trial Attorney & Managing Attorney\, Law Offices of Benvenuto & Gaujean \nMr. Gaujean has over 30 years of litigation experience with over 20 years’ experience as a medical malpractice defense attorney. Previously\, Mr. Gaujean was the managing partner at Brown\, Gaujean\, Kraus and Sastow. He has appeared and represented clients in both State and Federal courts in New York and has successfully tried cases in almost every downstate venue including New York\, Kings\, Queens\, Bronx\, Nassau\, and Suffolk County courts. Throughout his career he has represented hospitals\, nursing homes\, physicians\, PA’s\, nurses\, dentists\, podiatrists\, and organizations and facilities including\, prep schools\, universities\, hotels\, and corporations. He has also litigated product liability actions and toxic tort asbestos claims for Fortune 500 companies. Mr. Gaujean has been invited to give lectures at hospitals in-service programs for medical professionals at Westchester Medical Center\, Stony Brook University Hospital\, and grand rounds at New York Health Hospital Bellevue. He has also lectured at statewide Continuing Legal Education seminars for both State and Federal judges. \nMichael Maher | Senior Associate Attorney\, Law Offices of Benvenuto & Gaujean \nMr. Maher has practiced with a focus on medical malpractice defense and nursing home/long-term care liability defense. He has represented individual physicians\, hospitals\, health care facilities\, and nursing homes in New York City\, Long Island and Hudson Valley areas. Mr. Maher has handled all aspects of medical malpractice cases from inception up to and including trial in various jurisdictions. Mr. Maher has also been instrumental in formulating and piloting the trial technology team at the Law Offices of Benvenuto & Gaujean working with other trial attorneys\, as well to enhance the presentation of evidence during trial. Mr. Maher also sits on the COVID-19 Task Force that was assembled by EmPRO for the management\, defense\, and advocacy for favorable outcomes for medical professionals in early litigation involving allegations pertaining to medical services rendered during the course of the COVID-19 pandemic. \n—————————————————- \nContinuing Education Credits \nThis program has been approved for Continuing Education for 5.25 total participant hours by NAB/NCERS—Approval #20261028-5.25-A115285-IN. \nCME Accreditation Statement \nEmPRO Insurance Company is accredited by The Medical Society of the State of New York (MSSNY) to provide continuing medical education for physicians. \nEmPRO Insurance Company designates this live activity for a maximum of 5 AMA PRA Category 1 Credits™. \nPhysicians should claim only the credit commensurate with the extent of their participation in the activity. \nPolicy on Disclosure of Relevant Financial Relationships \nEmPRO Insurance Company collects and verifies\, prior to engaging with the accredited education; that all individuals involved in content development\, planners\, speakers\, reviewers\, faculty disclose all financial relationships with ineligible companies that they have had in the past 24 months. There is no minimum financial threshold; individuals must disclose all financial relationships\, regardless of the amount\, with ineligible companies. Individuals must disclose regardless of their view of the relevance of the relationship to the education. \nShould any relevant financial relationship(s) with an ineligible company be identified\, it will be mitigated prior to the activity. \nThe ACCME defines ineligible companies as those whose primary business is producing\, marketing\, selling\, re-selling\, or distributing healthcare products used by or on patients. \nChristine Quinn\, Andrea Mokrzycki\, Timothy Shea\, Max Gaujean\, Michael Maher\, and Alayna Thomas have no financial relationship(s) with ineligible companies within the past 24-months to disclose. \nREGISTER HERE
URL:https://www.myempro.com/event/annual-patient-safety-conference-healing-across-generations/
LOCATION:Cure.\, 345 Park Avenue South\, New York\, NY\, 10010\, United States
CATEGORIES:Patient Safety
ATTACH;FMTTYPE=image/png:https://www.myempro.com/app/uploads/2025/08/Healing-Across-Generations-The-Patient-Safety-Challenge-of-Multigenerational-Care-2160-x-1081-px-7.png
END:VEVENT
END:VCALENDAR